BEGIN:VCALENDAR
VERSION:2.0
PRODID:-//Nmedv Events//EN
CALSCALE:GREGORIAN
METHOD:PUBLISH
ORGANIZER;CN=Nmedv Events:MAILTO:sales@nmedv.de
TZID:GMT Standard Time
BEGIN:VTIMEZONE
TZID:GMT Standard Time
BEGIN:STANDARD
TZOFFSETFROM:+0100
TZOFFSETTO:+0000
DTSTART:20001025T000000
RRULE:FREQ=YEARLY;BYDAY=-1SU;BYMONTH=10
TZNAME:GMT Standard Time
END:STANDARD
BEGIN:DAYLIGHT
TZOFFSETFROM:+0000
TZOFFSETTO:+0100
DTSTART:20000329T000000
RRULE:FREQ=YEARLY;BYDAY=-1SU;BYMONTH=3
TZNAME:GMT Daylight Time
END:DAYLIGHT
END:VTIMEZONE
BEGIN:VEVENT
DTSTAMP:20260421T121217Z
UID:8973c7f4f926a0a1aa25c14d3e8e080a
X-GWITEM-TYPE:APPOINTMENT
TRANSP:OPAQUE
X-GWSHOW-AS:BUSY
X-MICROSOFT-CDO-INTENDEDSTATUS:BUSY
PRIORITY:5
CLASS:PUBLIC
X-GWCLASS:NORMAL
DTSTART;TZID="GMT Standard Time":20250708T070000Z
DTEND;TZID="GMT Standard Time":20250708T100000Z
TZID:GMT Standard Time
SUMMARY:nm July Training Days 2025 Windows OS Deployment with ZENworks and ENGL
LOCATION:
URL;VALUE=URI:https://staging.nmedv.de/product/nm-july-training-days-2025-windows-os-deployment-with-zenworks-and-engl/
DESCRIPTION:ZENworks Imaging: Preboot Services\\, ZENworks Imaging\\, Third-Party Imaging\nWindows Imaging: Sysprep\\, WAIK\\, WIM\\, ImageX\nIntroduction to
  ENGL Imaging Toolkit:\n\nInstalling ENGL Imaging Toolkit\nConfiguring ENGL Build Process\nENGL Build Process debugging\nUpgrading ENGL Imaging Toolkit\nLicensing ENGL Imaging Toolkit\nHow to update ZENworks and ENGL
X-ALT-DESC;FMTTYPE=TEXT/HTML:<html><head><META HTTP-EQUIV=\"Content-Type\" CONTENT=\"text/html\; charset=UTF-8\"></head><body><ul><li>ZENworks Imaging: Preboot Services, ZENworks Imaging, Third-Party Imaging</li><li>Windows Imaging: Sysprep, WAIK, WIM, ImageX</li><li>Introduction to ENGL Imaging Toolkit:<ul><li>Installing ENGL Imaging Toolkit</li><li>Configuring ENGL Build Process</li><li>ENGL Build Process debugging</li><li>Upgrading ENGL Imaging Toolkit</li><li>Licensing ENGL Imaging Toolkit</li><li>How to update ZENworks and ENGL</li></ul></li></ul></body></html>
END:VEVENT
BEGIN:VEVENT
DTSTAMP:20260421T121217Z
UID:4d14fac8a09bc2217902fdc71ebe5bc6
X-GWITEM-TYPE:APPOINTMENT
TRANSP:OPAQUE
X-GWSHOW-AS:BUSY
X-MICROSOFT-CDO-INTENDEDSTATUS:BUSY
PRIORITY:5
CLASS:PUBLIC
X-GWCLASS:NORMAL
DTSTART;TZID="GMT Standard Time":20250708T110000Z
DTEND;TZID="GMT Standard Time":20250708T140000Z
TZID:GMT Standard Time
SUMMARY:nm July Training Days 2025 Windows OS Deployment with ZENworks and ENGL
LOCATION:
URL;VALUE=URI:https://staging.nmedv.de/product/nm-july-training-days-2025-windows-os-deployment-with-zenworks-and-engl/
DESCRIPTION:ZENworks Imaging: Preboot Services\\, ZENworks Imaging\\, Third-Party Imaging\nWindows Imaging: Sysprep\\, WAIK\\, WIM\\, ImageX\nIntroduction to
  ENGL Imaging Toolkit:\n\nInstalling ENGL Imaging Toolkit\nConfiguring ENGL Build Process\nENGL Build Process debugging\nUpgrading ENGL Imaging Toolkit\nLicensing ENGL Imaging Toolkit\nHow to update ZENworks and ENGL
X-ALT-DESC;FMTTYPE=TEXT/HTML:<html><head><META HTTP-EQUIV=\"Content-Type\" CONTENT=\"text/html\; charset=UTF-8\"></head><body><ul><li>ZENworks Imaging: Preboot Services, ZENworks Imaging, Third-Party Imaging</li><li>Windows Imaging: Sysprep, WAIK, WIM, ImageX</li><li>Introduction to ENGL Imaging Toolkit:<ul><li>Installing ENGL Imaging Toolkit</li><li>Configuring ENGL Build Process</li><li>ENGL Build Process debugging</li><li>Upgrading ENGL Imaging Toolkit</li><li>Licensing ENGL Imaging Toolkit</li><li>How to update ZENworks and ENGL</li></ul></li></ul></body></html>
END:VEVENT
BEGIN:VEVENT
DTSTAMP:20260421T121217Z
UID:a940f6439ba0df11b7c69a73aedd008b
X-GWITEM-TYPE:APPOINTMENT
TRANSP:OPAQUE
X-GWSHOW-AS:BUSY
X-MICROSOFT-CDO-INTENDEDSTATUS:BUSY
PRIORITY:5
CLASS:PUBLIC
X-GWCLASS:NORMAL
DTSTART;TZID="GMT Standard Time":20250709T070000Z
DTEND;TZID="GMT Standard Time":20250709T100000Z
TZID:GMT Standard Time
SUMMARY:nm July Training Days 2025 Windows OS Deployment with ZENworks and ENGL
LOCATION:
URL;VALUE=URI:https://staging.nmedv.de/product/nm-july-training-days-2025-windows-os-deployment-with-zenworks-and-engl/
DESCRIPTION:ZENworks Imaging: Preboot Services\\, ZENworks Imaging\\, Third-Party Imaging\nWindows Imaging: Sysprep\\, WAIK\\, WIM\\, ImageX\nIntroduction to
  ENGL Imaging Toolkit:\n\nInstalling ENGL Imaging Toolkit\nConfiguring ENGL Build Process\nENGL Build Process debugging\nUpgrading ENGL Imaging Toolkit\nLicensing ENGL Imaging Toolkit\nHow to update ZENworks and ENGL
X-ALT-DESC;FMTTYPE=TEXT/HTML:<html><head><META HTTP-EQUIV=\"Content-Type\" CONTENT=\"text/html\; charset=UTF-8\"></head><body><ul><li>ZENworks Imaging: Preboot Services, ZENworks Imaging, Third-Party Imaging</li><li>Windows Imaging: Sysprep, WAIK, WIM, ImageX</li><li>Introduction to ENGL Imaging Toolkit:<ul><li>Installing ENGL Imaging Toolkit</li><li>Configuring ENGL Build Process</li><li>ENGL Build Process debugging</li><li>Upgrading ENGL Imaging Toolkit</li><li>Licensing ENGL Imaging Toolkit</li><li>How to update ZENworks and ENGL</li></ul></li></ul></body></html>
END:VEVENT
BEGIN:VEVENT
DTSTAMP:20260421T121217Z
UID:0c1bfefa2f0b1303f11b5eb3b1a8af01
X-GWITEM-TYPE:APPOINTMENT
TRANSP:OPAQUE
X-GWSHOW-AS:BUSY
X-MICROSOFT-CDO-INTENDEDSTATUS:BUSY
PRIORITY:5
CLASS:PUBLIC
X-GWCLASS:NORMAL
DTSTART;TZID="GMT Standard Time":20250709T110000Z
DTEND;TZID="GMT Standard Time":20250709T140000Z
TZID:GMT Standard Time
SUMMARY:nm July Training Days 2025 Windows OS Deployment with ZENworks and ENGL
LOCATION:
URL;VALUE=URI:https://staging.nmedv.de/product/nm-july-training-days-2025-windows-os-deployment-with-zenworks-and-engl/
DESCRIPTION:ZENworks Imaging: Preboot Services\\, ZENworks Imaging\\, Third-Party Imaging\nWindows Imaging: Sysprep\\, WAIK\\, WIM\\, ImageX\nIntroduction to
  ENGL Imaging Toolkit:\n\nInstalling ENGL Imaging Toolkit\nConfiguring ENGL Build Process\nENGL Build Process debugging\nUpgrading ENGL Imaging Toolkit\nLicensing ENGL Imaging Toolkit\nHow to update ZENworks and ENGL
X-ALT-DESC;FMTTYPE=TEXT/HTML:<html><head><META HTTP-EQUIV=\"Content-Type\" CONTENT=\"text/html\; charset=UTF-8\"></head><body><ul><li>ZENworks Imaging: Preboot Services, ZENworks Imaging, Third-Party Imaging</li><li>Windows Imaging: Sysprep, WAIK, WIM, ImageX</li><li>Introduction to ENGL Imaging Toolkit:<ul><li>Installing ENGL Imaging Toolkit</li><li>Configuring ENGL Build Process</li><li>ENGL Build Process debugging</li><li>Upgrading ENGL Imaging Toolkit</li><li>Licensing ENGL Imaging Toolkit</li><li>How to update ZENworks and ENGL</li></ul></li></ul></body></html>
END:VEVENT
END:VCALENDAR
