BEGIN:VCALENDAR
VERSION:2.0
PRODID:-//Nmedv Events//EN
CALSCALE:GREGORIAN
METHOD:PUBLISH
X-WR-TIMEZONE:Europe/Berlin
BEGIN:VEVENT
UID:80e826836ddf213a@nmedv-events
DTSTAMP:20260419T144055Z
DTSTART:20250922T070000Z
DTEND:20250922T100000Z
SUMMARY:nm September Training Days 2025 Windows OS Deployment with ZENworks
  and ENGL
URL:https://staging.nmedv.de/product/nm-september-training-days-2025-window
 s-os-deployment-with-zenworks-and-engl/
DESCRIPTION:ZENworks Imaging: Preboot Services\, ZENworks Imaging\, Third-P
 arty Imaging\nWindows Imaging: Sysprep\, WAIK\, WIM\, ImageX\nIntroduction 
 to ENGL Imaging Toolkit:\n\nInstalling ENGL Imaging Toolkit\nConfiguring EN
 GL Build Process\nENGL Build Process debugging\nUpgrading ENGL Imaging Tool
 kit\nLicensing ENGL Imaging Toolkit\nHow to update ZENworks and ENGL\n\nhtt
 ps://staging.nmedv.de/product/nm-september-training-days-2025-windows-os-de
 ployment-with-zenworks-and-engl/
X-ALT-DESC;FMTTYPE=text/html:<html><body><ul>\n<li>ZENworks Imaging: Preboo
 t Services\, ZENworks Imaging\, Third-Party Imaging</li>\n<li>Windows Imagi
 ng: Sysprep\, WAIK\, WIM\, ImageX</li>\n<li>Introduction to ENGL Imaging To
 olkit:\n<ul>\n<li>Installing ENGL Imaging Toolkit</li>\n<li>Configuring ENG
 L Build Process</li>\n<li>ENGL Build Process debugging</li>\n<li>Upgrading 
 ENGL Imaging Toolkit</li>\n<li>Licensing ENGL Imaging Toolkit</li>\n<li>How
  to update ZENworks and ENGL</li>\n</ul>\n</li>\n</ul>\n<p><a href="https:/
 /staging.nmedv.de/product/nm-september-training-days-2025-windows-os-deploy
 ment-with-zenworks-and-engl/">https://staging.nmedv.de/product/nm-september
 -training-days-2025-windows-os-deployment-with-zenworks-and-engl/</a></p></
 body></html>
END:VEVENT
X-WR-TIMEZONE:Europe/Berlin
BEGIN:VEVENT
UID:fd22a269fca36ae5@nmedv-events
DTSTAMP:20260419T144055Z
DTSTART:20250922T110000Z
DTEND:20250922T140000Z
SUMMARY:nm September Training Days 2025 Windows OS Deployment with ZENworks
  and ENGL
URL:https://staging.nmedv.de/product/nm-september-training-days-2025-window
 s-os-deployment-with-zenworks-and-engl/
DESCRIPTION:ZENworks Imaging: Preboot Services\, ZENworks Imaging\, Third-P
 arty Imaging\nWindows Imaging: Sysprep\, WAIK\, WIM\, ImageX\nIntroduction 
 to ENGL Imaging Toolkit:\n\nInstalling ENGL Imaging Toolkit\nConfiguring EN
 GL Build Process\nENGL Build Process debugging\nUpgrading ENGL Imaging Tool
 kit\nLicensing ENGL Imaging Toolkit\nHow to update ZENworks and ENGL\n\nhtt
 ps://staging.nmedv.de/product/nm-september-training-days-2025-windows-os-de
 ployment-with-zenworks-and-engl/
X-ALT-DESC;FMTTYPE=text/html:<html><body><ul>\n<li>ZENworks Imaging: Preboo
 t Services\, ZENworks Imaging\, Third-Party Imaging</li>\n<li>Windows Imagi
 ng: Sysprep\, WAIK\, WIM\, ImageX</li>\n<li>Introduction to ENGL Imaging To
 olkit:\n<ul>\n<li>Installing ENGL Imaging Toolkit</li>\n<li>Configuring ENG
 L Build Process</li>\n<li>ENGL Build Process debugging</li>\n<li>Upgrading 
 ENGL Imaging Toolkit</li>\n<li>Licensing ENGL Imaging Toolkit</li>\n<li>How
  to update ZENworks and ENGL</li>\n</ul>\n</li>\n</ul>\n<p><a href="https:/
 /staging.nmedv.de/product/nm-september-training-days-2025-windows-os-deploy
 ment-with-zenworks-and-engl/">https://staging.nmedv.de/product/nm-september
 -training-days-2025-windows-os-deployment-with-zenworks-and-engl/</a></p></
 body></html>
END:VEVENT
X-WR-TIMEZONE:Europe/Berlin
BEGIN:VEVENT
UID:02cc3136e68691aa@nmedv-events
DTSTAMP:20260419T144055Z
DTSTART:20250923T070000Z
DTEND:20250923T100000Z
SUMMARY:nm September Training Days 2025 Windows OS Deployment with ZENworks
  and ENGL
URL:https://staging.nmedv.de/product/nm-september-training-days-2025-window
 s-os-deployment-with-zenworks-and-engl/
DESCRIPTION:ZENworks Imaging: Preboot Services\, ZENworks Imaging\, Third-P
 arty Imaging\nWindows Imaging: Sysprep\, WAIK\, WIM\, ImageX\nIntroduction 
 to ENGL Imaging Toolkit:\n\nInstalling ENGL Imaging Toolkit\nConfiguring EN
 GL Build Process\nENGL Build Process debugging\nUpgrading ENGL Imaging Tool
 kit\nLicensing ENGL Imaging Toolkit\nHow to update ZENworks and ENGL\n\nhtt
 ps://staging.nmedv.de/product/nm-september-training-days-2025-windows-os-de
 ployment-with-zenworks-and-engl/
X-ALT-DESC;FMTTYPE=text/html:<html><body><ul>\n<li>ZENworks Imaging: Preboo
 t Services\, ZENworks Imaging\, Third-Party Imaging</li>\n<li>Windows Imagi
 ng: Sysprep\, WAIK\, WIM\, ImageX</li>\n<li>Introduction to ENGL Imaging To
 olkit:\n<ul>\n<li>Installing ENGL Imaging Toolkit</li>\n<li>Configuring ENG
 L Build Process</li>\n<li>ENGL Build Process debugging</li>\n<li>Upgrading 
 ENGL Imaging Toolkit</li>\n<li>Licensing ENGL Imaging Toolkit</li>\n<li>How
  to update ZENworks and ENGL</li>\n</ul>\n</li>\n</ul>\n<p><a href="https:/
 /staging.nmedv.de/product/nm-september-training-days-2025-windows-os-deploy
 ment-with-zenworks-and-engl/">https://staging.nmedv.de/product/nm-september
 -training-days-2025-windows-os-deployment-with-zenworks-and-engl/</a></p></
 body></html>
END:VEVENT
X-WR-TIMEZONE:Europe/Berlin
BEGIN:VEVENT
UID:408219f1ebd8077f@nmedv-events
DTSTAMP:20260419T144055Z
DTSTART:20250923T110000Z
DTEND:20250923T140000Z
SUMMARY:nm September Training Days 2025 Windows OS Deployment with ZENworks
  and ENGL
URL:https://staging.nmedv.de/product/nm-september-training-days-2025-window
 s-os-deployment-with-zenworks-and-engl/
DESCRIPTION:ZENworks Imaging: Preboot Services\, ZENworks Imaging\, Third-P
 arty Imaging\nWindows Imaging: Sysprep\, WAIK\, WIM\, ImageX\nIntroduction 
 to ENGL Imaging Toolkit:\n\nInstalling ENGL Imaging Toolkit\nConfiguring EN
 GL Build Process\nENGL Build Process debugging\nUpgrading ENGL Imaging Tool
 kit\nLicensing ENGL Imaging Toolkit\nHow to update ZENworks and ENGL\n\nhtt
 ps://staging.nmedv.de/product/nm-september-training-days-2025-windows-os-de
 ployment-with-zenworks-and-engl/
X-ALT-DESC;FMTTYPE=text/html:<html><body><ul>\n<li>ZENworks Imaging: Preboo
 t Services\, ZENworks Imaging\, Third-Party Imaging</li>\n<li>Windows Imagi
 ng: Sysprep\, WAIK\, WIM\, ImageX</li>\n<li>Introduction to ENGL Imaging To
 olkit:\n<ul>\n<li>Installing ENGL Imaging Toolkit</li>\n<li>Configuring ENG
 L Build Process</li>\n<li>ENGL Build Process debugging</li>\n<li>Upgrading 
 ENGL Imaging Toolkit</li>\n<li>Licensing ENGL Imaging Toolkit</li>\n<li>How
  to update ZENworks and ENGL</li>\n</ul>\n</li>\n</ul>\n<p><a href="https:/
 /staging.nmedv.de/product/nm-september-training-days-2025-windows-os-deploy
 ment-with-zenworks-and-engl/">https://staging.nmedv.de/product/nm-september
 -training-days-2025-windows-os-deployment-with-zenworks-and-engl/</a></p></
 body></html>
END:VEVENT
END:VCALENDAR
