BEGIN:VCALENDAR
VERSION:2.0
PRODID:-//Nmedv Events//EN
CALSCALE:GREGORIAN
METHOD:PUBLISH
ORGANIZER;CN=Nmedv Events:MAILTO:sales@nmedv.de
TZID:GMT Standard Time
BEGIN:VTIMEZONE
TZID:GMT Standard Time
BEGIN:STANDARD
TZOFFSETFROM:+0100
TZOFFSETTO:+0000
DTSTART:20001025T000000
RRULE:FREQ=YEARLY;BYDAY=-1SU;BYMONTH=10
TZNAME:GMT Standard Time
END:STANDARD
BEGIN:DAYLIGHT
TZOFFSETFROM:+0000
TZOFFSETTO:+0100
DTSTART:20000329T000000
RRULE:FREQ=YEARLY;BYDAY=-1SU;BYMONTH=3
TZNAME:GMT Daylight Time
END:DAYLIGHT
END:VTIMEZONE
BEGIN:VEVENT
DTSTAMP:20260421T115915Z
UID:a1179c1be85a64f7faf238378dc66925
X-GWITEM-TYPE:APPOINTMENT
TRANSP:OPAQUE
X-GWSHOW-AS:BUSY
X-MICROSOFT-CDO-INTENDEDSTATUS:BUSY
PRIORITY:5
CLASS:PUBLIC
X-GWCLASS:NORMAL
DTSTART;TZID="GMT Standard Time":20991231T080000Z
DTEND;TZID="GMT Standard Time":20991231T110000Z
TZID:GMT Standard Time
SUMMARY:nm Training Voucher Opentext
LOCATION:
URL;VALUE=URI:https://staging.nmedv.de/product/nm-training-voucher-opentext/
DESCRIPTION:
X-ALT-DESC;FMTTYPE=TEXT/HTML:
END:VEVENT
BEGIN:VEVENT
DTSTAMP:20260421T115915Z
UID:32a6ebf03e8feb32dc8465951e382393
X-GWITEM-TYPE:APPOINTMENT
TRANSP:OPAQUE
X-GWSHOW-AS:BUSY
X-MICROSOFT-CDO-INTENDEDSTATUS:BUSY
PRIORITY:5
CLASS:PUBLIC
X-GWCLASS:NORMAL
DTSTART;TZID="GMT Standard Time":20991231T120000Z
DTEND;TZID="GMT Standard Time":20991231T150000Z
TZID:GMT Standard Time
SUMMARY:nm Training Voucher Opentext
LOCATION:
URL;VALUE=URI:https://staging.nmedv.de/product/nm-training-voucher-opentext/
DESCRIPTION:
X-ALT-DESC;FMTTYPE=TEXT/HTML:
END:VEVENT
END:VCALENDAR
