BEGIN:VCALENDAR
VERSION:2.0
PRODID:-//Nmedv Events//EN
CALSCALE:GREGORIAN
METHOD:PUBLISH
X-WR-TIMEZONE:Europe/Berlin
BEGIN:VEVENT
UID:a09e8c6ada73330a@nmedv-events
DTSTAMP:20260421T082919Z
DTSTART:20261124T080000Z
DTEND:20261124T110000Z
SUMMARY:nm November Training Days 2026: Windows OS Deployment with ZENworks
  and ENGL Imaging Toolkit
URL:https://staging.nmedv.de/product/nm-november-training-days-2026-windows
 -os-deployment-with-zenworks-and-engl-imaging-toolkit/
DESCRIPTION:ZENworks Imaging: Preboot Services\, ZENworks Imaging\, Third-P
 arty Imaging\nWindows Imaging: Sysprep\, WAIK\, WIM\, ImageX\nIntroduction 
 to ENGL Imaging Toolkit:\n\nInstalling ENGL Imaging Toolkit\nConfiguring EN
 GL Build Process\nENGL Build Process debugging\nUpgrading ENGL Imaging Tool
 kit\nLicensing ENGL Imaging Toolkit\nHow to update ZENworks and ENGL\n\nhtt
 ps://staging.nmedv.de/product/nm-november-training-days-2026-windows-os-dep
 loyment-with-zenworks-and-engl-imaging-toolkit/
X-ALT-DESC;FMTTYPE=text/html:<html><body><ul>\n<li>ZENworks Imaging: Preboo
 t Services\, ZENworks Imaging\, Third-Party Imaging</li>\n<li>Windows Imagi
 ng: Sysprep\, WAIK\, WIM\, ImageX</li>\n<li>Introduction to ENGL Imaging To
 olkit:\n<ul>\n<li>Installing ENGL Imaging Toolkit</li>\n<li>Configuring ENG
 L Build Process</li>\n<li>ENGL Build Process debugging</li>\n<li>Upgrading 
 ENGL Imaging Toolkit</li>\n<li>Licensing ENGL Imaging Toolkit</li>\n<li>How
  to update ZENworks and ENGL</li>\n</ul>\n</li>\n</ul>\n<p><a href="https:/
 /staging.nmedv.de/product/nm-november-training-days-2026-windows-os-deploym
 ent-with-zenworks-and-engl-imaging-toolkit/">https://staging.nmedv.de/produ
 ct/nm-november-training-days-2026-windows-os-deployment-with-zenworks-and-e
 ngl-imaging-toolkit/</a></p></body></html>
END:VEVENT
X-WR-TIMEZONE:Europe/Berlin
BEGIN:VEVENT
UID:fff2e6ec5557f763@nmedv-events
DTSTAMP:20260421T082919Z
DTSTART:20261124T120000Z
DTEND:20261124T150000Z
SUMMARY:nm November Training Days 2026: Windows OS Deployment with ZENworks
  and ENGL Imaging Toolkit
URL:https://staging.nmedv.de/product/nm-november-training-days-2026-windows
 -os-deployment-with-zenworks-and-engl-imaging-toolkit/
DESCRIPTION:ZENworks Imaging: Preboot Services\, ZENworks Imaging\, Third-P
 arty Imaging\nWindows Imaging: Sysprep\, WAIK\, WIM\, ImageX\nIntroduction 
 to ENGL Imaging Toolkit:\n\nInstalling ENGL Imaging Toolkit\nConfiguring EN
 GL Build Process\nENGL Build Process debugging\nUpgrading ENGL Imaging Tool
 kit\nLicensing ENGL Imaging Toolkit\nHow to update ZENworks and ENGL\n\nhtt
 ps://staging.nmedv.de/product/nm-november-training-days-2026-windows-os-dep
 loyment-with-zenworks-and-engl-imaging-toolkit/
X-ALT-DESC;FMTTYPE=text/html:<html><body><ul>\n<li>ZENworks Imaging: Preboo
 t Services\, ZENworks Imaging\, Third-Party Imaging</li>\n<li>Windows Imagi
 ng: Sysprep\, WAIK\, WIM\, ImageX</li>\n<li>Introduction to ENGL Imaging To
 olkit:\n<ul>\n<li>Installing ENGL Imaging Toolkit</li>\n<li>Configuring ENG
 L Build Process</li>\n<li>ENGL Build Process debugging</li>\n<li>Upgrading 
 ENGL Imaging Toolkit</li>\n<li>Licensing ENGL Imaging Toolkit</li>\n<li>How
  to update ZENworks and ENGL</li>\n</ul>\n</li>\n</ul>\n<p><a href="https:/
 /staging.nmedv.de/product/nm-november-training-days-2026-windows-os-deploym
 ent-with-zenworks-and-engl-imaging-toolkit/">https://staging.nmedv.de/produ
 ct/nm-november-training-days-2026-windows-os-deployment-with-zenworks-and-e
 ngl-imaging-toolkit/</a></p></body></html>
END:VEVENT
X-WR-TIMEZONE:Europe/Berlin
BEGIN:VEVENT
UID:6b948fc8e5850b87@nmedv-events
DTSTAMP:20260421T082919Z
DTSTART:20261125T080000Z
DTEND:20261125T110000Z
SUMMARY:nm November Training Days 2026: Windows OS Deployment with ZENworks
  and ENGL Imaging Toolkit
URL:https://staging.nmedv.de/product/nm-november-training-days-2026-windows
 -os-deployment-with-zenworks-and-engl-imaging-toolkit/
DESCRIPTION:ZENworks Imaging: Preboot Services\, ZENworks Imaging\, Third-P
 arty Imaging\nWindows Imaging: Sysprep\, WAIK\, WIM\, ImageX\nIntroduction 
 to ENGL Imaging Toolkit:\n\nInstalling ENGL Imaging Toolkit\nConfiguring EN
 GL Build Process\nENGL Build Process debugging\nUpgrading ENGL Imaging Tool
 kit\nLicensing ENGL Imaging Toolkit\nHow to update ZENworks and ENGL\n\nhtt
 ps://staging.nmedv.de/product/nm-november-training-days-2026-windows-os-dep
 loyment-with-zenworks-and-engl-imaging-toolkit/
X-ALT-DESC;FMTTYPE=text/html:<html><body><ul>\n<li>ZENworks Imaging: Preboo
 t Services\, ZENworks Imaging\, Third-Party Imaging</li>\n<li>Windows Imagi
 ng: Sysprep\, WAIK\, WIM\, ImageX</li>\n<li>Introduction to ENGL Imaging To
 olkit:\n<ul>\n<li>Installing ENGL Imaging Toolkit</li>\n<li>Configuring ENG
 L Build Process</li>\n<li>ENGL Build Process debugging</li>\n<li>Upgrading 
 ENGL Imaging Toolkit</li>\n<li>Licensing ENGL Imaging Toolkit</li>\n<li>How
  to update ZENworks and ENGL</li>\n</ul>\n</li>\n</ul>\n<p><a href="https:/
 /staging.nmedv.de/product/nm-november-training-days-2026-windows-os-deploym
 ent-with-zenworks-and-engl-imaging-toolkit/">https://staging.nmedv.de/produ
 ct/nm-november-training-days-2026-windows-os-deployment-with-zenworks-and-e
 ngl-imaging-toolkit/</a></p></body></html>
END:VEVENT
X-WR-TIMEZONE:Europe/Berlin
BEGIN:VEVENT
UID:54c5b814f42298be@nmedv-events
DTSTAMP:20260421T082919Z
DTSTART:20261125T120000Z
DTEND:20261125T150000Z
SUMMARY:nm November Training Days 2026: Windows OS Deployment with ZENworks
  and ENGL Imaging Toolkit
URL:https://staging.nmedv.de/product/nm-november-training-days-2026-windows
 -os-deployment-with-zenworks-and-engl-imaging-toolkit/
DESCRIPTION:ZENworks Imaging: Preboot Services\, ZENworks Imaging\, Third-P
 arty Imaging\nWindows Imaging: Sysprep\, WAIK\, WIM\, ImageX\nIntroduction 
 to ENGL Imaging Toolkit:\n\nInstalling ENGL Imaging Toolkit\nConfiguring EN
 GL Build Process\nENGL Build Process debugging\nUpgrading ENGL Imaging Tool
 kit\nLicensing ENGL Imaging Toolkit\nHow to update ZENworks and ENGL\n\nhtt
 ps://staging.nmedv.de/product/nm-november-training-days-2026-windows-os-dep
 loyment-with-zenworks-and-engl-imaging-toolkit/
X-ALT-DESC;FMTTYPE=text/html:<html><body><ul>\n<li>ZENworks Imaging: Preboo
 t Services\, ZENworks Imaging\, Third-Party Imaging</li>\n<li>Windows Imagi
 ng: Sysprep\, WAIK\, WIM\, ImageX</li>\n<li>Introduction to ENGL Imaging To
 olkit:\n<ul>\n<li>Installing ENGL Imaging Toolkit</li>\n<li>Configuring ENG
 L Build Process</li>\n<li>ENGL Build Process debugging</li>\n<li>Upgrading 
 ENGL Imaging Toolkit</li>\n<li>Licensing ENGL Imaging Toolkit</li>\n<li>How
  to update ZENworks and ENGL</li>\n</ul>\n</li>\n</ul>\n<p><a href="https:/
 /staging.nmedv.de/product/nm-november-training-days-2026-windows-os-deploym
 ent-with-zenworks-and-engl-imaging-toolkit/">https://staging.nmedv.de/produ
 ct/nm-november-training-days-2026-windows-os-deployment-with-zenworks-and-e
 ngl-imaging-toolkit/</a></p></body></html>
END:VEVENT
END:VCALENDAR
