BEGIN:VCALENDAR
VERSION:2.0
PRODID:-//Nmedv Events//EN
CALSCALE:GREGORIAN
METHOD:PUBLISH
ORGANIZER;CN=Nmedv Events:MAILTO:sales@nmedv.de
TZID:GMT Standard Time
BEGIN:VTIMEZONE
TZID:GMT Standard Time
BEGIN:STANDARD
TZOFFSETFROM:+0100
TZOFFSETTO:+0000
DTSTART:20001025T000000
RRULE:FREQ=YEARLY;BYDAY=-1SU;BYMONTH=10
TZNAME:GMT Standard Time
END:STANDARD
BEGIN:DAYLIGHT
TZOFFSETFROM:+0000
TZOFFSETTO:+0100
DTSTART:20000329T000000
RRULE:FREQ=YEARLY;BYDAY=-1SU;BYMONTH=3
TZNAME:GMT Daylight Time
END:DAYLIGHT
END:VTIMEZONE
BEGIN:VEVENT
DTSTAMP:20260421T115446Z
UID:e3fea25000282859d2854f1e8e294247
X-GWITEM-TYPE:APPOINTMENT
TRANSP:OPAQUE
X-GWSHOW-AS:BUSY
X-MICROSOFT-CDO-INTENDEDSTATUS:BUSY
PRIORITY:5
CLASS:PUBLIC
X-GWCLASS:NORMAL
DTSTART;TZID="GMT Standard Time":20261124T080000Z
DTEND;TZID="GMT Standard Time":20261124T110000Z
TZID:GMT Standard Time
SUMMARY:nm November Training Days 2026: Windows OS Deployment with ZENworks and ENGL Imaging Toolkit
LOCATION:
URL;VALUE=URI:https://staging.nmedv.de/product/nm-november-training-days-2026-windows-os-deployment-with-zenworks-and-engl-imaging-toolkit/
DESCRIPTION:ZENworks Imaging: Preboot Services\\, ZENworks Imaging\\, Third-Party Imaging\nWindows Imaging: Sysprep\\, WAIK\\, WIM\\, ImageX\nIntroduction to
  ENGL Imaging Toolkit:\n\nInstalling ENGL Imaging Toolkit\nConfiguring ENGL Build Process\nENGL Build Process debugging\nUpgrading ENGL Imaging Toolkit\nLicensing ENGL Imaging Toolkit\nHow to update ZENworks and ENGL
X-ALT-DESC;FMTTYPE=TEXT/HTML:<html><head><META HTTP-EQUIV=\"Content-Type\" CONTENT=\"text/html\; charset=UTF-8\"></head><body><ul><li>ZENworks Imaging: Preboot Services, ZENworks Imaging, Third-Party Imaging</li><li>Windows Imaging: Sysprep, WAIK, WIM, ImageX</li><li>Introduction to ENGL Imaging Toolkit:<ul><li>Installing ENGL Imaging Toolkit</li><li>Configuring ENGL Build Process</li><li>ENGL Build Process debugging</li><li>Upgrading ENGL Imaging Toolkit</li><li>Licensing ENGL Imaging Toolkit</li><li>How to update ZENworks and ENGL</li></ul></li></ul></body></html>
END:VEVENT
BEGIN:VEVENT
DTSTAMP:20260421T115446Z
UID:0e43540994065c4577bca709ea9e9f38
X-GWITEM-TYPE:APPOINTMENT
TRANSP:OPAQUE
X-GWSHOW-AS:BUSY
X-MICROSOFT-CDO-INTENDEDSTATUS:BUSY
PRIORITY:5
CLASS:PUBLIC
X-GWCLASS:NORMAL
DTSTART;TZID="GMT Standard Time":20261124T120000Z
DTEND;TZID="GMT Standard Time":20261124T150000Z
TZID:GMT Standard Time
SUMMARY:nm November Training Days 2026: Windows OS Deployment with ZENworks and ENGL Imaging Toolkit
LOCATION:
URL;VALUE=URI:https://staging.nmedv.de/product/nm-november-training-days-2026-windows-os-deployment-with-zenworks-and-engl-imaging-toolkit/
DESCRIPTION:ZENworks Imaging: Preboot Services\\, ZENworks Imaging\\, Third-Party Imaging\nWindows Imaging: Sysprep\\, WAIK\\, WIM\\, ImageX\nIntroduction to
  ENGL Imaging Toolkit:\n\nInstalling ENGL Imaging Toolkit\nConfiguring ENGL Build Process\nENGL Build Process debugging\nUpgrading ENGL Imaging Toolkit\nLicensing ENGL Imaging Toolkit\nHow to update ZENworks and ENGL
X-ALT-DESC;FMTTYPE=TEXT/HTML:<html><head><META HTTP-EQUIV=\"Content-Type\" CONTENT=\"text/html\; charset=UTF-8\"></head><body><ul><li>ZENworks Imaging: Preboot Services, ZENworks Imaging, Third-Party Imaging</li><li>Windows Imaging: Sysprep, WAIK, WIM, ImageX</li><li>Introduction to ENGL Imaging Toolkit:<ul><li>Installing ENGL Imaging Toolkit</li><li>Configuring ENGL Build Process</li><li>ENGL Build Process debugging</li><li>Upgrading ENGL Imaging Toolkit</li><li>Licensing ENGL Imaging Toolkit</li><li>How to update ZENworks and ENGL</li></ul></li></ul></body></html>
END:VEVENT
BEGIN:VEVENT
DTSTAMP:20260421T115446Z
UID:e24a900ec2b2ac2e9d729d3c4b9818af
X-GWITEM-TYPE:APPOINTMENT
TRANSP:OPAQUE
X-GWSHOW-AS:BUSY
X-MICROSOFT-CDO-INTENDEDSTATUS:BUSY
PRIORITY:5
CLASS:PUBLIC
X-GWCLASS:NORMAL
DTSTART;TZID="GMT Standard Time":20261125T080000Z
DTEND;TZID="GMT Standard Time":20261125T110000Z
TZID:GMT Standard Time
SUMMARY:nm November Training Days 2026: Windows OS Deployment with ZENworks and ENGL Imaging Toolkit
LOCATION:
URL;VALUE=URI:https://staging.nmedv.de/product/nm-november-training-days-2026-windows-os-deployment-with-zenworks-and-engl-imaging-toolkit/
DESCRIPTION:ZENworks Imaging: Preboot Services\\, ZENworks Imaging\\, Third-Party Imaging\nWindows Imaging: Sysprep\\, WAIK\\, WIM\\, ImageX\nIntroduction to
  ENGL Imaging Toolkit:\n\nInstalling ENGL Imaging Toolkit\nConfiguring ENGL Build Process\nENGL Build Process debugging\nUpgrading ENGL Imaging Toolkit\nLicensing ENGL Imaging Toolkit\nHow to update ZENworks and ENGL
X-ALT-DESC;FMTTYPE=TEXT/HTML:<html><head><META HTTP-EQUIV=\"Content-Type\" CONTENT=\"text/html\; charset=UTF-8\"></head><body><ul><li>ZENworks Imaging: Preboot Services, ZENworks Imaging, Third-Party Imaging</li><li>Windows Imaging: Sysprep, WAIK, WIM, ImageX</li><li>Introduction to ENGL Imaging Toolkit:<ul><li>Installing ENGL Imaging Toolkit</li><li>Configuring ENGL Build Process</li><li>ENGL Build Process debugging</li><li>Upgrading ENGL Imaging Toolkit</li><li>Licensing ENGL Imaging Toolkit</li><li>How to update ZENworks and ENGL</li></ul></li></ul></body></html>
END:VEVENT
BEGIN:VEVENT
DTSTAMP:20260421T115446Z
UID:3bcf0a18c5730266ba0a364e70fa9fd5
X-GWITEM-TYPE:APPOINTMENT
TRANSP:OPAQUE
X-GWSHOW-AS:BUSY
X-MICROSOFT-CDO-INTENDEDSTATUS:BUSY
PRIORITY:5
CLASS:PUBLIC
X-GWCLASS:NORMAL
DTSTART;TZID="GMT Standard Time":20261125T120000Z
DTEND;TZID="GMT Standard Time":20261125T150000Z
TZID:GMT Standard Time
SUMMARY:nm November Training Days 2026: Windows OS Deployment with ZENworks and ENGL Imaging Toolkit
LOCATION:
URL;VALUE=URI:https://staging.nmedv.de/product/nm-november-training-days-2026-windows-os-deployment-with-zenworks-and-engl-imaging-toolkit/
DESCRIPTION:ZENworks Imaging: Preboot Services\\, ZENworks Imaging\\, Third-Party Imaging\nWindows Imaging: Sysprep\\, WAIK\\, WIM\\, ImageX\nIntroduction to
  ENGL Imaging Toolkit:\n\nInstalling ENGL Imaging Toolkit\nConfiguring ENGL Build Process\nENGL Build Process debugging\nUpgrading ENGL Imaging Toolkit\nLicensing ENGL Imaging Toolkit\nHow to update ZENworks and ENGL
X-ALT-DESC;FMTTYPE=TEXT/HTML:<html><head><META HTTP-EQUIV=\"Content-Type\" CONTENT=\"text/html\; charset=UTF-8\"></head><body><ul><li>ZENworks Imaging: Preboot Services, ZENworks Imaging, Third-Party Imaging</li><li>Windows Imaging: Sysprep, WAIK, WIM, ImageX</li><li>Introduction to ENGL Imaging Toolkit:<ul><li>Installing ENGL Imaging Toolkit</li><li>Configuring ENGL Build Process</li><li>ENGL Build Process debugging</li><li>Upgrading ENGL Imaging Toolkit</li><li>Licensing ENGL Imaging Toolkit</li><li>How to update ZENworks and ENGL</li></ul></li></ul></body></html>
END:VEVENT
END:VCALENDAR
