BEGIN:VCALENDAR
VERSION:2.0
PRODID:-//Nmedv Events//EN
CALSCALE:GREGORIAN
METHOD:PUBLISH
ORGANIZER;CN=Nmedv Events:MAILTO:sales@nmedv.de
TZID:GMT Standard Time
BEGIN:VTIMEZONE
TZID:GMT Standard Time
BEGIN:STANDARD
TZOFFSETFROM:+0100
TZOFFSETTO:+0000
DTSTART:20001025T000000
RRULE:FREQ=YEARLY;BYDAY=-1SU;BYMONTH=10
TZNAME:GMT Standard Time
END:STANDARD
BEGIN:DAYLIGHT
TZOFFSETFROM:+0000
TZOFFSETTO:+0100
DTSTART:20000329T000000
RRULE:FREQ=YEARLY;BYDAY=-1SU;BYMONTH=3
TZNAME:GMT Daylight Time
END:DAYLIGHT
END:VTIMEZONE
BEGIN:VEVENT
DTSTAMP:20260421T120135Z
UID:7f19aba47dc13327163db13a41659930
X-GWITEM-TYPE:APPOINTMENT
TRANSP:OPAQUE
X-GWSHOW-AS:BUSY
X-MICROSOFT-CDO-INTENDEDSTATUS:BUSY
PRIORITY:5
CLASS:PUBLIC
X-GWCLASS:NORMAL
DTSTART;TZID="GMT Standard Time":20260505T070000Z
DTEND;TZID="GMT Standard Time":20260505T100000Z
TZID:GMT Standard Time
SUMMARY:nm May Training Days 2026: Filr Basics
LOCATION:
URL;VALUE=URI:https://staging.nmedv.de/product/nm-may-training-days-2026-filr-basics/
DESCRIPTION:Installation requirements\nImportant configration parameters\nAvailable deployment scenarios\nRecommendations for deployment scenarios\nHow to decide beetween small and large deployment method\nStep-by-step installation process
X-ALT-DESC;FMTTYPE=TEXT/HTML:<html><head><META HTTP-EQUIV=\"Content-Type\" CONTENT=\"text/html\; charset=UTF-8\"></head><body><p>Installation requirements</p><p>Important configration parameters</p><p>Available deployment scenarios</p><p>Recommendations for deployment scenarios</p><p>How to decide beetween small and large deployment method</p><p>Step-by-step installation process</p></body></html>
END:VEVENT
BEGIN:VEVENT
DTSTAMP:20260421T120135Z
UID:50ffa1fce7f08a0333e5073800d20f3a
X-GWITEM-TYPE:APPOINTMENT
TRANSP:OPAQUE
X-GWSHOW-AS:BUSY
X-MICROSOFT-CDO-INTENDEDSTATUS:BUSY
PRIORITY:5
CLASS:PUBLIC
X-GWCLASS:NORMAL
DTSTART;TZID="GMT Standard Time":20260505T110000Z
DTEND;TZID="GMT Standard Time":20260505T140000Z
TZID:GMT Standard Time
SUMMARY:nm May Training Days 2026: Filr Basics
LOCATION:
URL;VALUE=URI:https://staging.nmedv.de/product/nm-may-training-days-2026-filr-basics/
DESCRIPTION:Installation requirements\nImportant configration parameters\nAvailable deployment scenarios\nRecommendations for deployment scenarios\nHow to decide beetween small and large deployment method\nStep-by-step installation process
X-ALT-DESC;FMTTYPE=TEXT/HTML:<html><head><META HTTP-EQUIV=\"Content-Type\" CONTENT=\"text/html\; charset=UTF-8\"></head><body><p>Installation requirements</p><p>Important configration parameters</p><p>Available deployment scenarios</p><p>Recommendations for deployment scenarios</p><p>How to decide beetween small and large deployment method</p><p>Step-by-step installation process</p></body></html>
END:VEVENT
END:VCALENDAR
